BEGIN:VCALENDAR
VERSION:2.0
PRODID:-//eventon.com NONSGML v1.0//EN
CALSCALE:GREGORIAN
METHOD:PUBLISH
BEGIN:VEVENT
UID:69e598a192af5
DTSTAMP:20260420T030817Z
DTSTART:20221216T030000Z
DTEND:20221218T140000Z
LOCATION:
SUMMARY:GOiFEX 2022
DESCRIPTION:South East Asia’s Premier Sport\,  Fitness & Lifestyle Event\
 nhttps://www.agendaindonesia.com/events/goifex-2022/
URL:https://www.agendaindonesia.com/events/goifex-2022/
END:VEVENT
END:VCALENDAR