BEGIN:VCALENDAR
VERSION:2.0
PRODID:-//eventon.com NONSGML v1.0//EN
CALSCALE:GREGORIAN
METHOD:PUBLISH
BEGIN:VEVENT
UID:69e90b11a2965
DTSTAMP:20260422T175321Z
DTSTART:20221130T030000Z
DTEND:20221202T150000Z
LOCATION:
SUMMARY:<strong>MACHINE TOOLS INDONESIA</strong>
DESCRIPTION:Pameran internasional mesin industri dan peralatan metal.\nhttp
 s://www.agendaindonesia.com/events/machine-tools-indonesia/
URL:https://www.agendaindonesia.com/events/machine-tools-indonesia/
END:VEVENT
END:VCALENDAR