BEGIN:VCALENDAR
VERSION:2.0
PRODID:-//eventon.com NONSGML v1.0//EN
CALSCALE:GREGORIAN
METHOD:PUBLISH
BEGIN:VEVENT
UID:69ea73b6b26ce
DTSTAMP:20260423T193206Z
DTSTART:20230506T030000Z
DTEND:20230507T140000Z
LOCATION:
SUMMARY:COMIC FRONTIER 16
DESCRIPTION:Comic Frontier&nbsp;atau biasa disingkat menjadi&nbsp;Comifuro&
 nbsp;yang merupakan salah satu&nbsp;event&nbsp;doujin market terkemuka&nbsp
 ;Indonesia kembali diselenggarakan. Ini merupakan perhelatannya yang ke-16.
 \nhttps://www.agendaindonesia.com/events/comic-frontier-16/
URL:https://www.agendaindonesia.com/events/comic-frontier-16/
END:VEVENT
END:VCALENDAR