BEGIN:VCALENDAR
VERSION:2.0
PRODID:-//eventon.com NONSGML v1.0//EN
CALSCALE:GREGORIAN
METHOD:PUBLISH
BEGIN:VEVENT
UID:69eb5c1e4d53f
DTSTAMP:20260424T120342Z
DTSTART:20240229T100000Z
DTEND:20240229T150000Z
LOCATION:
SUMMARY:THE FIRST ERA CONCERT
DESCRIPTION:Wave to Earth akan datang ke Indonesia untuk konser solo mereka
  yang bertajuk The First Era Concert. Band indie Korea ini dijadwalkan meny
 apa fansnya di Indonesia.\nhttps://www.agendaindonesia.com/events/the-first
 -era-concert/
URL:https://www.agendaindonesia.com/events/the-first-era-concert/
END:VEVENT
END:VCALENDAR